BEGIN:VCALENDAR
VERSION:2.0
PRODID:-//ФИЦ КазНЦ РАН - ECPv4.6.13//NONSGML v1.0//EN
CALSCALE:GREGORIAN
METHOD:PUBLISH
X-WR-CALNAME:ФИЦ КазНЦ РАН
X-ORIGINAL-URL:https://knc.ru
X-WR-CALDESC:Events for ФИЦ КазНЦ РАН
BEGIN:VEVENT
DTSTART;TZID=UTC:20230519T153000
DTEND;TZID=UTC:20230519T173000
DTSTAMP:20260423T125747
CREATED:20230324T034454Z
LAST-MODIFIED:20230512T071708Z
UID:14526-1684510200-1684517400@knc.ru
SUMMARY:Вечер в Литературной гостиной\, посвященный творчеству русских советских писателей Ильи Ильфа и Евгения Петрова «А вот так и пишем вдвоем…» или «Жизнь прекрасна\, невзирая на недочеты»
DESCRIPTION:19 мая в 15.30 Литературная гостиная Центральной научной библиотеки ФИЦ КазНЦ РАН приглашает читающую публику на вечер «А вот так и пишем вдвоем…» или «Жизнь прекрасна\, невзирая на недочеты»\, посвященный творчеству русских советских писателей Ильи Ильфа (1897-1937) и Евгения Петрова (1903-1942). \nДействующие лица и исполнители:\nИлья Ильф – Игорь Хлебников\nЕвгений Петров – Эдуард Шурыгин\nВедущий – Наталья Горшкова\nСовременник – Евгения Федина\nОтрывки из произведений Ильфа и Петрова читает\nИрина Ларская\nВокал – Алексей Добрынин \nВечер состоится в читальном зале ЦНБ (главное здание\, к.110\, 3 этаж) по адресу: Лобачевского\, 2/31. \nВ программе: отрывки из произведений Ильи Ильфа и Евгения Петрова\, фрагменты воспоминаний современников. \nВ истории мировой литературы по пальцам можно пересчитать случаи писательского содружества: Братья Гонкур\, А.К. Толстой и братья Жемчужниковы\, объединившиеся под псевдонимом Козьма Прутков\, братья Стругацкие… \nИльф и Петров. Несмотря на то\, что у них у каждого была своя семья\, свой круг друзей\, свои литературные и жизненные пристрастия\, это «был единый организм\, один писатель — «ИЛЬФиПЕТРОВ». Как им удавалось так долго не только успешно сотрудничать\, но и дружить? В чем секрет популярности их произведений? На эти и другие вопросы мы попытаемся ответить в Литературной гостиной. \nВаш Библиотекарь \n
URL:https://knc.ru/event/%d0%b2%d0%b5%d1%87%d0%b5%d1%80-%d0%b2-%d0%bb%d0%b8%d1%82%d0%b5%d1%80%d0%b0%d1%82%d1%83%d1%80%d0%bd%d0%be%d0%b9-%d0%b3%d0%be%d1%81%d1%82%d0%b8%d0%bd%d0%be%d0%b9-%d0%bf%d0%be%d1%81%d0%b2%d1%8f%d1%89/
LOCATION:ул. Лобачевского\, 2/31\, Казань\, Российская Федерация
ATTACH;FMTTYPE=image/png:https://knc.ru/wp-content/uploads/2023/03/0.png
END:VEVENT
END:VCALENDAR