BEGIN:VCALENDAR
VERSION:2.0
PRODID:-//ФИЦ КазНЦ РАН - ECPv4.6.13//NONSGML v1.0//EN
CALSCALE:GREGORIAN
METHOD:PUBLISH
X-WR-CALNAME:ФИЦ КазНЦ РАН
X-ORIGINAL-URL:https://knc.ru
X-WR-CALDESC:Events for ФИЦ КазНЦ РАН
BEGIN:VEVENT
DTSTART;VALUE=DATE:20230918
DTEND;VALUE=DATE:20230919
DTSTAMP:20260423T101837
CREATED:20230803T043922Z
LAST-MODIFIED:20230803T043922Z
UID:15180-1694995200-1695081599@knc.ru
SUMMARY:Вручение Международной Арбузовской премии в области фосфорорганической химии-2023
DESCRIPTION:Указом Раиса Республики Татарстан Рустама Нургалиевича Минниханова от 11 июля 2023 года № 485 Международная Арбузовская премия в области фосфорорганической химии за 2023 год присуждена ГАБИБОВУ Александру Габибовичу — директору федерального бюджетного учреждения науки «Институт биоорганической химии им. академиков М.М. Шемякина и Ю.А. Овчинникова Российской академии наук»\, академику Российской академии наук (г. Москва). \nТоржественная церемония вручения Премии состоится 18 сентября 2023 года в ФИЦ КазНЦ РАН в рамках открытия I Междисциплинарной всероссийской конференции с международным участием «Молекулярный дизайн биологически активных веществ: биохимические и медицинские аспекты»\,  приуроченной к 120-летию академика Б.А. Арбузова. \nАкадемик А.Г. Габибов – всемирно известный российский ученый\, один из ведущих специалистов в области молекулярной биологии\, биохимии и биокатализа\, современное развитие которых непосредственно связано с достижениями синтетической органической химии\, молекулярной и структурной биологии. Международная Арбузовская премия присуждена академику А.Г. Габибову за большой вклад в создание «каталитических вакцин»\, способных связывать и разрушать фосфорорганические яды. \n
URL:https://knc.ru/event/%d0%b2%d1%80%d1%83%d1%87%d0%b5%d0%bd%d0%b8%d0%b5-%d0%bc%d0%b5%d0%b6%d0%b4%d1%83%d0%bd%d0%b0%d1%80%d0%be%d0%b4%d0%bd%d0%be%d0%b9-%d0%b0%d1%80%d0%b1%d1%83%d0%b7%d0%be%d0%b2%d1%81%d0%ba%d0%be%d0%b9-3/
END:VEVENT
END:VCALENDAR