BEGIN:VCALENDAR
VERSION:2.0
PRODID:-//ФИЦ КазНЦ РАН - ECPv4.6.13//NONSGML v1.0//EN
CALSCALE:GREGORIAN
METHOD:PUBLISH
X-WR-CALNAME:ФИЦ КазНЦ РАН
X-ORIGINAL-URL:https://knc.ru
X-WR-CALDESC:Events for ФИЦ КазНЦ РАН
BEGIN:VEVENT
DTSTART;VALUE=DATE:20240430
DTEND;VALUE=DATE:20240501
DTSTAMP:20260422T211010
CREATED:20240110T120242Z
LAST-MODIFIED:20240110T120518Z
UID:15867-1714435200-1714521599@knc.ru
SUMMARY:До 30 апреля предоставьте  декларацию 3-НДФЛ через Личный кабинет
DESCRIPTION: \n
URL:https://knc.ru/event/%d0%b4%d0%be-30-%d0%b0%d0%bf%d1%80%d0%b5%d0%bb%d1%8f-%d0%bf%d1%80%d0%b5%d0%b4%d0%be%d1%81%d1%82%d0%b0%d0%b2%d1%8c%d1%82%d0%b5-%d0%b4%d0%b5%d0%ba%d0%bb%d0%b0%d1%80%d0%b0%d1%86%d0%b8%d1%8e-3-%d0%bd/
ATTACH;FMTTYPE=image/png:https://knc.ru/wp-content/uploads/2024/01/3-ndfl.png
END:VEVENT
END:VCALENDAR