BEGIN:VCALENDAR
VERSION:2.0
PRODID:-//ФИЦ КазНЦ РАН - ECPv4.6.13//NONSGML v1.0//EN
CALSCALE:GREGORIAN
METHOD:PUBLISH
X-WR-CALNAME:ФИЦ КазНЦ РАН
X-ORIGINAL-URL:https://knc.ru
X-WR-CALDESC:Events for ФИЦ КазНЦ РАН
BEGIN:VEVENT
DTSTART;VALUE=DATE:20230303
DTEND;VALUE=DATE:20230304
DTSTAMP:20260423T125741
CREATED:20230228T111258Z
LAST-MODIFIED:20230228T111258Z
UID:14399-1677801600-1677887999@knc.ru
SUMMARY:Зимняя академиада ФИЦ КазНЦ РАН - 2023
DESCRIPTION:Приглашаем Вас принять участие в соревнованиях по лыжным гонкам! \n«Зимняя академиада ФИЦ КазНЦ РАН — 2023» \nМесто проведения: Горнолыжный комплекс «Трамплин»\, г. Казань\, ул. Таёжная\, 40 (микрорайон Нагорный). \n3 марта 2023 года\nПрограмма мероприятия: \n9.30 Прибытие на лыжную базу\n10.00 Регистрация участников\, разминка\n10.15 Церемония открытия соревнований\n10.30 Спринтерские гонки (мужчины до 50 лет-6 км\, мужчины старше 50 лет-3 км\, женщины – 3 км)\, стиль свободный\n12.00 Горячий чай со сладостями\n12.30 Награждение. Церемония закрытия соревнований \nИмеется прокат лыж-150 руб/час и теплое помещение\, где можно переодеться и оставить свои вещи. \nДля планирования проведения и организации транспорта просим всех желающих принять участие в соревнованиях\, заранее уведомить председателя профсоюза своего ОСП. \nБудем рады видеть Вас и членов Ваших семей!!! \nКонт. тел. 89173965127 Хлебников И.С. \n
URL:https://knc.ru/event/%d0%b7%d0%b8%d0%bc%d0%bd%d1%8f%d1%8f-%d0%b0%d0%ba%d0%b0%d0%b4%d0%b5%d0%bc%d0%b8%d0%b0%d0%b4%d0%b0-%d1%84%d0%b8%d1%86-%d0%ba%d0%b0%d0%b7%d0%bd%d1%86-%d1%80%d0%b0%d0%bd-2023/
ATTACH;FMTTYPE=image/jpeg:https://knc.ru/wp-content/uploads/2023/02/sk.jpg
END:VEVENT
END:VCALENDAR