BEGIN:VCALENDAR
VERSION:2.0
PRODID:-//ФИЦ КазНЦ РАН - ECPv4.6.13//NONSGML v1.0//EN
CALSCALE:GREGORIAN
METHOD:PUBLISH
X-WR-CALNAME:ФИЦ КазНЦ РАН
X-ORIGINAL-URL:https://knc.ru
X-WR-CALDESC:Events for ФИЦ КазНЦ РАН
BEGIN:VEVENT
DTSTART;VALUE=DATE:20240206
DTEND;VALUE=DATE:20240229
DTSTAMP:20260422T232705
CREATED:20240201T120214Z
LAST-MODIFIED:20240209T053628Z
UID:16008-1707177600-1709164799@knc.ru
SUMMARY:Итоговая научная конференция ФИЦ КазНЦ РАН
DESCRIPTION:		\n			\n				\n							\n						\n				\n				\n			\n					\n				\n				\n					 Программа итоговой конференции ФИЦ КазНЦ РАН 2024 (за 2023) \n				\n				\n						\n			\n		\n						\n			\n		\n						\n			\n		\n		
URL:https://knc.ru/event/%d0%b8%d1%82%d0%be%d0%b3%d0%be%d0%b2%d0%b0%d1%8f-%d0%bd%d0%b0%d1%83%d1%87%d0%bd%d0%b0%d1%8f-%d0%ba%d0%be%d0%bd%d1%84%d0%b5%d1%80%d0%b5%d0%bd%d1%86%d0%b8%d1%8f-%d1%84%d0%b8%d1%86-%d0%ba%d0%b0%d0%b7-2/
END:VEVENT
END:VCALENDAR