BEGIN:VCALENDAR
VERSION:2.0
PRODID:-//ФИЦ КазНЦ РАН - ECPv4.6.13//NONSGML v1.0//EN
CALSCALE:GREGORIAN
METHOD:PUBLISH
X-WR-CALNAME:ФИЦ КазНЦ РАН
X-ORIGINAL-URL:https://knc.ru
X-WR-CALDESC:Events for ФИЦ КазНЦ РАН
BEGIN:VEVENT
DTSTART;TZID=Europe/Moscow:20240216T140000
DTEND;TZID=Europe/Moscow:20240216T170000
DTSTAMP:20260422T215015
CREATED:20240209T053521Z
LAST-MODIFIED:20240209T053521Z
UID:16124-1708092000-1708102800@knc.ru
SUMMARY:Лекция на тему: «Д.И. Менделеев и его усадьба в Боблово»
DESCRIPTION:16 февраля 2024 года\, пятница — «Химический день» \nДокладчик – Смирнов Николай Александрович\, научный сотрудник Государственного мемориального музея-заповедника Д.И. Менделеева и А.А. Блока. \n\nhttps://knc.ru/wp-content/uploads/2024/02/VID-20240126-WA0005.mp4\n
URL:https://knc.ru/event/%d0%bb%d0%b5%d0%ba%d1%86%d0%b8%d1%8f-%d0%bd%d0%b0-%d1%82%d0%b5%d0%bc%d1%83-%d0%b4-%d0%b8-%d0%bc%d0%b5%d0%bd%d0%b4%d0%b5%d0%bb%d0%b5%d0%b5%d0%b2-%d0%b8-%d0%b5%d0%b3%d0%be-%d1%83%d1%81%d0%b0/
LOCATION:ул. Пушкина\, 86\, Казань\, Российская Федерация
ATTACH;FMTTYPE=image/png:https://knc.ru/wp-content/uploads/2024/01/ras300-l.png
END:VEVENT
END:VCALENDAR