BEGIN:VCALENDAR
VERSION:2.0
PRODID:-//ФИЦ КазНЦ РАН - ECPv4.6.13//NONSGML v1.0//EN
CALSCALE:GREGORIAN
METHOD:PUBLISH
X-WR-CALNAME:ФИЦ КазНЦ РАН
X-ORIGINAL-URL:https://knc.ru
X-WR-CALDESC:Events for ФИЦ КазНЦ РАН
BEGIN:VEVENT
DTSTART;TZID=UTC:20230216T170000
DTEND;TZID=UTC:20230216T190000
DTSTAMP:20260423T114113
CREATED:20230215T045159Z
LAST-MODIFIED:20230215T045159Z
UID:14374-1676566800-1676574000@knc.ru
SUMMARY:Семинар аспирантов и молодых ученых ФИЦ КазНЦ РАН
DESCRIPTION:16.02.2023 четверг 17.00\nконференц-зал КФТИ\, Сибирский Тракт 10/7 \nЕлена Кириллова \nИзучение биохимических особенностей и технологических свойств сортов мягкой яровой пшеницы для селекции на повышение качества зерна. \nнаучный руководитель д. с.-х.н. С.Н.Пономарёв. \n
URL:https://knc.ru/event/%d1%81%d0%b5%d0%bc%d0%b8%d0%bd%d0%b0%d1%80-%d0%b0%d1%81%d0%bf%d0%b8%d1%80%d0%b0%d0%bd%d1%82%d0%be%d0%b2-%d0%b8-%d0%bc%d0%be%d0%bb%d0%be%d0%b4%d1%8b%d1%85-%d1%83%d1%87%d0%b5%d0%bd%d1%8b%d1%85-%d1%84-13/
LOCATION:Сибирский тракт 10/7\, Казань\, 420029\, Российская Федерация
END:VEVENT
END:VCALENDAR