BEGIN:VCALENDAR
VERSION:2.0
PRODID:-//ФИЦ КазНЦ РАН - ECPv4.6.13//NONSGML v1.0//EN
CALSCALE:GREGORIAN
METHOD:PUBLISH
X-WR-CALNAME:ФИЦ КазНЦ РАН
X-ORIGINAL-URL:https://knc.ru
X-WR-CALDESC:Events for ФИЦ КазНЦ РАН
BEGIN:VEVENT
DTSTART;TZID=UTC:20221110T180000
DTEND;TZID=UTC:20221110T200000
DTSTAMP:20260423T213506
CREATED:20221108T011005Z
LAST-MODIFIED:20221108T011019Z
UID:13701-1668103200-1668110400@knc.ru
SUMMARY:Семинар аспирантов и молодых ученых ФИЦ КазНЦ РАН
DESCRIPTION:Конференц-зал КФТИ\, Сибирский Тракт 10/7 \nБеляев Григорий Павлович \nАнтифиброзный эффект Ксимедона и его конъюгата с L-аскорбиновой кислотой. \nИОФХ им. А.Е. Арбузова\, лаборатория химико-биологических исследований \nнаучный руководитель д-р биол. наук\, с.н.с. ИОФХ им. А.Е. Арбузова А.Б. Выштакалюк \n
URL:https://knc.ru/event/%d1%81%d0%b5%d0%bc%d0%b8%d0%bd%d0%b0%d1%80-%d0%b0%d1%81%d0%bf%d0%b8%d1%80%d0%b0%d0%bd%d1%82%d0%be%d0%b2-%d0%b8-%d0%bc%d0%be%d0%bb%d0%be%d0%b4%d1%8b%d1%85-%d1%83%d1%87%d0%b5%d0%bd%d1%8b%d1%85-%d1%84-3/
LOCATION:Сибирский тракт 10/7\, Казань\, 420029\, Российская Федерация
END:VEVENT
END:VCALENDAR