BEGIN:VCALENDAR
VERSION:2.0
PRODID:-//ФИЦ КазНЦ РАН - ECPv4.6.13//NONSGML v1.0//EN
CALSCALE:GREGORIAN
METHOD:PUBLISH
X-WR-CALNAME:ФИЦ КазНЦ РАН
X-ORIGINAL-URL:https://knc.ru
X-WR-CALDESC:Events for ФИЦ КазНЦ РАН
BEGIN:VEVENT
DTSTART;TZID=UTC:20221117T170000
DTEND;TZID=UTC:20221117T190000
DTSTAMP:20260423T200237
CREATED:20221115T105018Z
LAST-MODIFIED:20221115T105108Z
UID:13720-1668704400-1668711600@knc.ru
SUMMARY:Семинар аспирантов и молодых ученых ФИЦ КазНЦ РАН
DESCRIPTION:17.11.2022 четверг 17.00\nконференц-зал КФТИ\, Сибирский Тракт 10/7 \nДмитрий Федоренков  \n\n«Развитие трещин в роторной стали Р2М при повышенной температуре»\n \nлаборатория прочности ФИЦ КазНЦ РАН\, ИЭПТ\nНаучный руководитель д.т.н.\, профессор  В.Н. Шлянников \n
URL:https://knc.ru/event/%d1%81%d0%b5%d0%bc%d0%b8%d0%bd%d0%b0%d1%80-%d0%b0%d1%81%d0%bf%d0%b8%d1%80%d0%b0%d0%bd%d1%82%d0%be%d0%b2-%d0%b8-%d0%bc%d0%be%d0%bb%d0%be%d0%b4%d1%8b%d1%85-%d1%83%d1%87%d0%b5%d0%bd%d1%8b%d1%85-%d1%84-4/
LOCATION:Сибирский тракт 10/7\, Казань\, 420029\, Российская Федерация
END:VEVENT
END:VCALENDAR