BEGIN:VCALENDAR
VERSION:2.0
PRODID:-//ФИЦ КазНЦ РАН - ECPv4.6.13//NONSGML v1.0//EN
CALSCALE:GREGORIAN
METHOD:PUBLISH
X-WR-CALNAME:ФИЦ КазНЦ РАН
X-ORIGINAL-URL:https://knc.ru
X-WR-CALDESC:Events for ФИЦ КазНЦ РАН
BEGIN:VEVENT
DTSTART;TZID=Europe/Moscow:20241212T170000
DTEND;TZID=Europe/Moscow:20241212T190000
DTSTAMP:20260423T051546
CREATED:20241211T035504Z
LAST-MODIFIED:20241211T035504Z
UID:17625-1734022800-1734030000@knc.ru
SUMMARY:Семинар аспирантов и молодых ученых ФИЦ КазНЦ РАН
DESCRIPTION:Конференц-зал КФТИ\, Сиб. Тракт. 10/7 \nИлья Шутилов \nСинтез новых линкеров\, основанных на хиральных производных 5-гидроксиизофалевой кислоты для получения новых координационных «клеток» \nИОФХ им. Арбузова\nНаучный руководитель: к.х.н. А.С. Овсянников \n\n
URL:https://knc.ru/event/%d1%81%d0%b5%d0%bc%d0%b8%d0%bd%d0%b0%d1%80-%d0%b0%d1%81%d0%bf%d0%b8%d1%80%d0%b0%d0%bd%d1%82%d0%be%d0%b2-%d0%b8-%d0%bc%d0%be%d0%bb%d0%be%d0%b4%d1%8b%d1%85-%d1%83%d1%87%d0%b5%d0%bd%d1%8b%d1%85-%d1%84-47/
LOCATION:Сибирский тракт 10/7\, Казань\, 420029\, Российская Федерация
END:VEVENT
END:VCALENDAR