BEGIN:VCALENDAR
VERSION:2.0
PRODID:-//ФИЦ КазНЦ РАН - ECPv4.6.13//NONSGML v1.0//EN
CALSCALE:GREGORIAN
METHOD:PUBLISH
X-WR-CALNAME:ФИЦ КазНЦ РАН
X-ORIGINAL-URL:https://knc.ru
X-WR-CALDESC:Events for ФИЦ КазНЦ РАН
BEGIN:VEVENT
DTSTART;TZID=UTC:20221124T170000
DTEND;TZID=UTC:20221124T190000
DTSTAMP:20260423T183644
CREATED:20221123T011756Z
LAST-MODIFIED:20221123T011844Z
UID:13736-1669309200-1669316400@knc.ru
SUMMARY:Семинар аспирантов и молодых ученых ФИЦ КазНЦ РАН
DESCRIPTION:24.11.2022 четверг 17.00\nконференц-зал КФТИ\, Сибирский Тракт 10/7 \nНаталья Терехова  \n\n«Синтез\, химические трансформации и антимикробная активность 2-гидроксиарилзамещенных фосфониевых солей» (по материалам кандидатской диссертации)\n \nЛаборатория ФАПС ИОФХ им. А.Е. Арбузова\nнаучный руководитель к.х.н.\, доцент Татаринов Д.А. \n\n
URL:https://knc.ru/event/%d1%81%d0%b5%d0%bc%d0%b8%d0%bd%d0%b0%d1%80-%d0%b0%d1%81%d0%bf%d0%b8%d1%80%d0%b0%d0%bd%d1%82%d0%be%d0%b2-%d0%b8-%d0%bc%d0%be%d0%bb%d0%be%d0%b4%d1%8b%d1%85-%d1%83%d1%87%d0%b5%d0%bd%d1%8b%d1%85-%d1%84-5/
LOCATION:Сибирский тракт 10/7\, Казань\, 420029\, Российская Федерация
END:VEVENT
END:VCALENDAR