BEGIN:VCALENDAR
VERSION:2.0
PRODID:-//ФИЦ КазНЦ РАН - ECPv4.6.13//NONSGML v1.0//EN
CALSCALE:GREGORIAN
METHOD:PUBLISH
X-WR-CALNAME:ФИЦ КазНЦ РАН
X-ORIGINAL-URL:https://knc.ru
X-WR-CALDESC:Events for ФИЦ КазНЦ РАН
BEGIN:VEVENT
DTSTART;TZID=Europe/Moscow:20250123T170000
DTEND;TZID=Europe/Moscow:20250123T180000
DTSTAMP:20260423T113244
CREATED:20250123T040944Z
LAST-MODIFIED:20250123T041007Z
UID:17800-1737651600-1737655200@knc.ru
SUMMARY:Семинар аспирантов и молодых ученых ФИЦ КазНЦ РАН
DESCRIPTION:Конференц-зал КФТИ\, Сиб. Тракт. 10/7 \nВладислав Кашанский \nПолучение новых каталитически активных материалов на основе наночастиц переходных металлов (Ni\, Co\, Cu) для процессов выделения молекулярного водорода \nИОФХ\nНаучный руководитель: д.х.н. Яхваров Д.Г. \n
URL:https://knc.ru/event/%d1%81%d0%b5%d0%bc%d0%b8%d0%bd%d0%b0%d1%80-%d0%b0%d1%81%d0%bf%d0%b8%d1%80%d0%b0%d0%bd%d1%82%d0%be%d0%b2-%d0%b8-%d0%bc%d0%be%d0%bb%d0%be%d0%b4%d1%8b%d1%85-%d1%83%d1%87%d0%b5%d0%bd%d1%8b%d1%85-%d1%84-52/
LOCATION:Сибирский тракт 10/7\, Казань\, 420029\, Российская Федерация
END:VEVENT
END:VCALENDAR