BEGIN:VCALENDAR
VERSION:2.0
PRODID:-//ФИЦ КазНЦ РАН - ECPv4.6.13//NONSGML v1.0//EN
CALSCALE:GREGORIAN
METHOD:PUBLISH
X-WR-CALNAME:ФИЦ КазНЦ РАН
X-ORIGINAL-URL:https://knc.ru
X-WR-CALDESC:Events for ФИЦ КазНЦ РАН
BEGIN:VEVENT
DTSTART;TZID=UTC:20221222T170000
DTEND;TZID=UTC:20221222T190000
DTSTAMP:20260423T142333
CREATED:20221220T005707Z
LAST-MODIFIED:20221220T005707Z
UID:14008-1671728400-1671735600@knc.ru
SUMMARY:Семинар аспирантов и молодых ученых ФИЦ КазНЦ РАН
DESCRIPTION:22.12.2022 четверг 17.00\nконференц-зал КФТИ\, Сибирский Тракт 10/7 \nГузалия  Мурзагулова\n\nУстойчивость возбудителей розовой снежной плесени (Microdochium nivale) к\nфунгицидным препаратам: распространенность и физиологические основы \nЛаборатория инфекционных заболеваний растений  КИББ\nНаучный руководитель: к.б.н. В.Ю. Горшков \n
URL:https://knc.ru/event/%d1%81%d0%b5%d0%bc%d0%b8%d0%bd%d0%b0%d1%80-%d0%b0%d1%81%d0%bf%d0%b8%d1%80%d0%b0%d0%bd%d1%82%d0%be%d0%b2-%d0%b8-%d0%bc%d0%be%d0%bb%d0%be%d0%b4%d1%8b%d1%85-%d1%83%d1%87%d0%b5%d0%bd%d1%8b%d1%85-%d1%84-8/
LOCATION:Сибирский тракт 10/7\, Казань\, 420029\, Российская Федерация
END:VEVENT
END:VCALENDAR