BEGIN:VCALENDAR
VERSION:2.0
PRODID:-//ФИЦ КазНЦ РАН - ECPv4.6.13//NONSGML v1.0//EN
CALSCALE:GREGORIAN
METHOD:PUBLISH
X-WR-CALNAME:ФИЦ КазНЦ РАН
X-ORIGINAL-URL:https://knc.ru
X-WR-CALDESC:Events for ФИЦ КазНЦ РАН
BEGIN:VEVENT
DTSTART;TZID=Europe/Moscow:20260219T170000
DTEND;TZID=Europe/Moscow:20260219T180000
DTSTAMP:20260420T105315
CREATED:20260218T061622Z
LAST-MODIFIED:20260218T061622Z
UID:19829-1771520400-1771524000@knc.ru
SUMMARY:Семинар аспирантов и молодых ученых ФИЦ КазНЦ РАН
DESCRIPTION:\nчетверг 19.02.2026 в 17.00 актовый зал КФТИ ул. Сибирский Тракт 10/7\nЕвгений Бегишев \nМемристор — новый элемент микроэлектроники \n \n\nИнститут: КФТИ\, лаборатория Радиационной физики\nНаучный руководитель: к.ф.-м.н.\, с.н.с. Хайбуллин Рустам Ильдусович\n\n\n\n
URL:https://knc.ru/event/%d1%81%d0%b5%d0%bc%d0%b8%d0%bd%d0%b0%d1%80-%d0%b0%d1%81%d0%bf%d0%b8%d1%80%d0%b0%d0%bd%d1%82%d0%be%d0%b2-%d0%b8-%d0%bc%d0%be%d0%bb%d0%be%d0%b4%d1%8b%d1%85-%d1%83%d1%87%d0%b5%d0%bd%d1%8b%d1%85-%d1%84-83/
LOCATION:Сибирский тракт 10/7\, Казань\, 420029\, Российская Федерация
END:VEVENT
END:VCALENDAR