BEGIN:VCALENDAR
VERSION:2.0
PRODID:-//ФИЦ КазНЦ РАН - ECPv4.6.13//NONSGML v1.0//EN
CALSCALE:GREGORIAN
METHOD:PUBLISH
X-WR-CALNAME:ФИЦ КазНЦ РАН
X-ORIGINAL-URL:https://knc.ru
X-WR-CALDESC:Events for ФИЦ КазНЦ РАН
BEGIN:VEVENT
DTSTART;TZID=UTC:20230119T171500
DTEND;TZID=UTC:20230119T190000
DTSTAMP:20260423T125507
CREATED:20230118T011716Z
LAST-MODIFIED:20230119T005350Z
UID:14176-1674148500-1674154800@knc.ru
SUMMARY:Семинар аспирантов и молодых ученых ФИЦ КазНЦ РАН
DESCRIPTION:22.12.2022 четверг 17.15\nконференц-зал КФТИ\, Сибирский Тракт 10/7 \nЛекция \nЧто такое CV и сопроводительное письмо\, в чем его отличие от резюме и как его писать.\n \nУважаемые коллеги! \nПоскольку завтра будет не семинар в нормальном смысле\, а учебная лекция\, то есть возможность сделать её онлайн\, чтобы вам не ездить из здания в здание.\nПри этом присутствие аспирантов 2-3 курса обязательно\, гарнитура с микрофоном необходима\, камера крайне желательна\, я хочу видеть ваши лица\, а не вещать в пустое черное пространство.\n\nНачало в 17.15\nПеред нами в этом экаунте еще один семинар\, если вы увидите\, что подключились к нему\, просто подождите\, выключив микрофон.\n\n\n\n\nПодключиться к конференции Zoom\nhttps://us06web.zoom.us/j/88309579167?pwd=K0hZOTFCQXJNeXZsOTh2Ulo4b3RSQT09\n\n\n\n\nИдентификатор конференции: 883 0957 9167\nКод доступа: 177868\n\nДля подключения пройдите по ссылке\, если у вас не стоит приложение Зум\, то просто ткните в «войти через браузер».\nВ момент входа обратите внимание\, чтобы микрофон в окошке зума у вас был отключен.\nЕвгения Вавилова\n\n\n\n
URL:https://knc.ru/event/%d1%81%d0%b5%d0%bc%d0%b8%d0%bd%d0%b0%d1%80-%d0%b0%d1%81%d0%bf%d0%b8%d1%80%d0%b0%d0%bd%d1%82%d0%be%d0%b2-%d0%b8-%d0%bc%d0%be%d0%bb%d0%be%d0%b4%d1%8b%d1%85-%d1%83%d1%87%d0%b5%d0%bd%d1%8b%d1%85-%d1%84-9/
LOCATION:Сибирский тракт 10/7\, Казань\, 420029\, Российская Федерация
END:VEVENT
END:VCALENDAR