BEGIN:VCALENDAR
VERSION:2.0
PRODID:-//ФИЦ КазНЦ РАН - ECPv4.6.13//NONSGML v1.0//EN
CALSCALE:GREGORIAN
METHOD:PUBLISH
X-WR-CALNAME:ФИЦ КазНЦ РАН
X-ORIGINAL-URL:https://knc.ru
X-WR-CALDESC:Events for ФИЦ КазНЦ РАН
BEGIN:VEVENT
DTSTART;TZID=UTC:20221027T180000
DTEND;TZID=UTC:20221027T200000
DTSTAMP:20260424T002022
CREATED:20221025T033237Z
LAST-MODIFIED:20221025T033335Z
UID:13633-1666893600-1666900800@knc.ru
SUMMARY:Семинар аспирантов и молодых ученых ФИЦ КазНЦ РАН
DESCRIPTION:Конференц-зал КФТИ\, Сибирский Тракт 10/7 \nОльга Парфирова  \nРоль сидерофора энтеробактина в вирулентности и стрессоустойчивости пектобактерий  \nКазанский институт биохимии и биофизики\, Лаборатория молекулярной биологии Научный руководитель: к.б.н. Горшков Владимир Юрьевич \n
URL:https://knc.ru/event/%d1%81%d0%b5%d0%bc%d0%b8%d0%bd%d0%b0%d1%80-%d0%b0%d1%81%d0%bf%d0%b8%d1%80%d0%b0%d0%bd%d1%82%d0%be%d0%b2-%d0%b8-%d0%bc%d0%be%d0%bb%d0%be%d0%b4%d1%8b%d1%85-%d1%83%d1%87%d0%b5%d0%bd%d1%8b%d1%85-%d1%84/
LOCATION:Сибирский тракт 10/7\, Казань\, 420029\, Российская Федерация
END:VEVENT
END:VCALENDAR