BEGIN:VCALENDAR
VERSION:2.0
PRODID:-//ФИЦ КазНЦ РАН - ECPv4.6.13//NONSGML v1.0//EN
CALSCALE:GREGORIAN
METHOD:PUBLISH
X-WR-CALNAME:ФИЦ КазНЦ РАН
X-ORIGINAL-URL:https://knc.ru
X-WR-CALDESC:Events for ФИЦ КазНЦ РАН
BEGIN:VEVENT
DTSTART;VALUE=DATE:20230621
DTEND;VALUE=DATE:20230623
DTSTAMP:20260423T113345
CREATED:20230615T053950Z
LAST-MODIFIED:20230615T053950Z
UID:15024-1687305600-1687478399@knc.ru
SUMMARY:Семинар "Физико-химические методы мониторинга окружающей среды" состоится в Казани в рамках деятельности Консорциума "Экология промышленных городов"
DESCRIPTION:Участники Консорциума – ФИЦ «Казанский научный центр РАН»\, Институт органической химии им. Н.Д. 3елинского РАН\, Институт элементоорганических соединений им. А.Н. Несмеянова РАН\, ФИЦ «Институт общей физики им. Д.М. Прохорова РАН»\, Институт нефтехимического синтеза им. Д.В. Топчиева РАН\, ФИЦ «Институт катализа им. Г.К. Борескова Сибирского отделения РАН». \nГоловная организация Проекта — Федеральный исследовательский центр «Казанский научный центр Российской академии наук». \nКоординатор Проекта — Заместитель академика-секретаря Отделения химии и наук о материалах РАН\, академик РАН О. Г. Синяшин. \n Программа семинара \n
URL:https://knc.ru/event/%d1%81%d0%b5%d0%bc%d0%b8%d0%bd%d0%b0%d1%80-%d1%84%d0%b8%d0%b7%d0%b8%d0%ba%d0%be-%d1%85%d0%b8%d0%bc%d0%b8%d1%87%d0%b5%d1%81%d0%ba%d0%b8%d0%b5-%d0%bc%d0%b5%d1%82%d0%be%d0%b4%d1%8b-%d0%bc%d0%be%d0%bd/
LOCATION:ул. Лобачевского\, 2/31\, Казань\, Российская Федерация
END:VEVENT
END:VCALENDAR