BEGIN:VCALENDAR
VERSION:2.0
PRODID:-//ФИЦ КазНЦ РАН - ECPv4.6.13//NONSGML v1.0//EN
CALSCALE:GREGORIAN
METHOD:PUBLISH
X-WR-CALNAME:ФИЦ КазНЦ РАН
X-ORIGINAL-URL:https://knc.ru
X-WR-CALDESC:Events for ФИЦ КазНЦ РАН
BEGIN:VEVENT
DTSTART;VALUE=DATE:20221021
DTEND;VALUE=DATE:20221022
DTSTAMP:20260424T012827
CREATED:20221004T063953Z
LAST-MODIFIED:20221004T064041Z
UID:13549-1666310400-1666396799@knc.ru
SUMMARY:15-я научно-техническая конференция «Молодежь и инновации Татарстана»
DESCRIPTION: \nИнновационно-производственный технопарк «Идея»\nФедеральный исследовательский центр «Казанский научный центр Российской академии наук»\nКазанский физико-технический институт им. Е.К. Завойского –\nобособленное структурное подразделение Федерального государственного бюджетного учреждения науки ФИЦ «Казанский научный центр РАН»\nМинистерство образования и науки Республики Татарстан\nИнвестиционно-венчурный фонд РТ \n21 октября 2022 г. Федеральный исследовательский центр «Казанский научный центр Российской академии наук» и Казанский физико-технический институт им. Е.К. Завойского – обособленное структурное подразделение ФИЦ КазНЦ РАН проводит 15-ю республиканскую конференцию «Молодежь и инновации Татарстана». \nКонференция посвящена передовым разработкам в области цифровых технологий\, медицине и технологии здоровьесбережения\, исследованиям новых материалов и химических технологий\, разработкам новых приборов и интеллектуальных производственных технологий\, проблемам биотехнологии и ресурсосберегающей энергетики. \nУчастие бесплатное\, необходима регистрация. Возраст участников конференции – до 35 лет. \nВ рамках конференции проводится отбор работ по Программе Фонда содействия развитию малых форм предприятий в научно-технической сфере «Участник молодежного научно-инновационного конкурса» («УМНИК») на 2022 год. Возраст участников конкурса от 18 до 30 лет (включительно). \nhttp://kfti.knc.ru/conferences/XV-yit-2022/ \nСрок регистрации до 17 октября 2022 г. (включительно). \nКонтактный данные:\n8 906 326 41 59   Шапошникова Татьяна Сергеевна\, снс КФТИ ФИЦ КазНЦ РАН\, t_shap@kfti.knc.ru\n8 843 292 57 50   Фаттахов Яхъя Валиевич\, внс КФТИ ФИЦ КазНЦ РАН \n \n
URL:https://knc.ru/event/15-%d1%8f-%d0%bd%d0%b0%d1%83%d1%87%d0%bd%d0%be-%d1%82%d0%b5%d1%85%d0%bd%d0%b8%d1%87%d0%b5%d1%81%d0%ba%d0%b0%d1%8f-%d0%ba%d0%be%d0%bd%d1%84%d0%b5%d1%80%d0%b5%d0%bd%d1%86%d0%b8%d1%8f-%d0%bc%d0%be/
LOCATION:ул. Лобачевского\, 2/31\, Казань\, Российская Федерация
END:VEVENT
END:VCALENDAR