BEGIN:VCALENDAR
VERSION:2.0
PRODID:-//ФИЦ КазНЦ РАН - ECPv4.6.13//NONSGML v1.0//EN
CALSCALE:GREGORIAN
METHOD:PUBLISH
X-WR-CALNAME:ФИЦ КазНЦ РАН
X-ORIGINAL-URL:https://knc.ru
X-WR-CALDESC:Events for ФИЦ КазНЦ РАН
BEGIN:VEVENT
DTSTART;TZID=UTC:20221020T180000
DTEND;TZID=UTC:20221020T200000
DTSTAMP:20260424T012441
CREATED:20221018T011011Z
LAST-MODIFIED:20221018T011011Z
UID:13604-1666288800-1666296000@knc.ru
SUMMARY:Cеминар аспирантов и молодых ученых ФИЦ КазНЦ РАН
DESCRIPTION:Раис Павлов \n\n«Дизайн липосомальных наноконтейнеров для доставки лекарств в раковые клетки: роль дзета-потенциала» ИОФХ Арбузова\, Лаборатория Высокоорганизованных сред \n\nРуководитель к.х.н. Гайнанова Гульнара Ахатовна\n\n\n\n
URL:https://knc.ru/event/c%d0%b5%d0%bc%d0%b8%d0%bd%d0%b0%d1%80-%d0%b0%d1%81%d0%bf%d0%b8%d1%80%d0%b0%d0%bd%d1%82%d0%be%d0%b2-%d0%b8-%d0%bc%d0%be%d0%bb%d0%be%d0%b4%d1%8b%d1%85-%d1%83%d1%87%d0%b5%d0%bd%d1%8b%d1%85-%d1%84%d0%b8/
LOCATION:Сибирский тракт 10/7\, Казань\, 420029\, Российская Федерация
END:VEVENT
END:VCALENDAR