BEGIN:VCALENDAR
VERSION:2.0
PRODID:-//ФИЦ КазНЦ РАН - ECPv4.6.13//NONSGML v1.0//EN
CALSCALE:GREGORIAN
METHOD:PUBLISH
X-WR-CALNAME:ФИЦ КазНЦ РАН
X-ORIGINAL-URL:https://knc.ru
X-WR-CALDESC:Events for ФИЦ КазНЦ РАН
BEGIN:VEVENT
DTSTART;TZID=UTC:20230216T140000
DTEND;TZID=UTC:20230216T153000
DTSTAMP:20260423T113757
CREATED:20230215T045751Z
LAST-MODIFIED:20230215T045823Z
UID:14376-1676556000-1676561400@knc.ru
SUMMARY:CЕМИНАР “НАУЧНАЯ МЕТОДОЛОГИЯ”
DESCRIPTION:Этот семинар создан для научных сотрудников\, аспирантов\, студентов с целью повышения эффективности научной работы. Участие в этом семинаре поможет каждому добиться больших успехов в работе\, потому что на семинаре будут представлены передовые проверенные подходы. \nЭтот семинар открыт для всех желающих независимо от их научной специализации. Для участия в работе семинара надо зарегистрироваться у секретаря семинара. \nРуководитель семинара: академик РАН К.М. Салихов\, Научный руководитель КФТИ ФИЦ КазНЦ РАН. \nСекретарь семинара: Гарипов Ранис Рамисович\, младший научный сотрудник КФТИ ФИЦ КазНЦ РАН \nТелефон: 89046731545 \nЭлектронный адрес: gari_rtrf@mail.ru \nАдрес: Казань\,ул. Сибирский тракт\, 10/7. \nМесто проведения: конференц-зал КФТИ \nОнлайн: https://us06web.zoom.us/j/87964488289?pwd=V1hLK04wSHV4WEVzZHdkWEJyRFMzQT09 \nИдентификатор конференции: 879 6448 8289 \nКод доступа: 977239 \nПРОГРАММА CЕМИНАРА \n\n\n\nДата\nТема семинара\n\n\n03.11.22\nЗначение парадигмы в развитии науки\n\n\n19.01.23\nЧто такое спин-гамильтониан?\n\n\n16.02.23\nПрактическая польза от определенийи понятий в науке.\n\n\n02.03.23\nЧто такое парадигма?\n\n\n06.04.23\nНеобходимые и достаточные условия длясмены парадигмы.\n\n\n11.05.23\nКак сделать открытие?\n\n\n01.06.23\nО пользе выводов в научной работе.\n\n\n06.07.23\nЧто можно узнать за 20 минут?\n\n\n\nВремя проведения семинара 14.00-15.30 по московскому времени \n
URL:https://knc.ru/event/c%d0%b5%d0%bc%d0%b8%d0%bd%d0%b0%d1%80-%d0%bd%d0%b0%d1%83%d1%87%d0%bd%d0%b0%d1%8f-%d0%bc%d0%b5%d1%82%d0%be%d0%b4%d0%be%d0%bb%d0%be%d0%b3%d0%b8%d1%8f/
LOCATION:Сибирский тракт 10/7\, Казань\, 420029\, Российская Федерация
END:VEVENT
END:VCALENDAR