BEGIN:VCALENDAR
VERSION:2.0
PRODID:-//ФИЦ КазНЦ РАН - ECPv4.6.13//NONSGML v1.0//EN
CALSCALE:GREGORIAN
METHOD:PUBLISH
X-WR-CALNAME:ФИЦ КазНЦ РАН
X-ORIGINAL-URL:https://knc.ru
X-WR-CALDESC:Events for ФИЦ КазНЦ РАН
BEGIN:VEVENT
DTSTART;VALUE=DATE:20230925
DTEND;VALUE=DATE:20231001
DTSTAMP:20260423T103321
CREATED:20230530T100531Z
LAST-MODIFIED:20230530T101442Z
UID:14965-1695600000-1696118399@knc.ru
SUMMARY:KAZAN SCIENCE WEEK • 2023
DESCRIPTION: \n\nKAZAN SCIENCE WEEK\n\n\nZavoisky Award • 2023 ceremony\nModern Development of Magnetic Resonance • 2023\nSpin Physics\, Spin Chemistry and Spin Technology • 2023 \nDear colleagues\,\nWe are pleased to welcome you to the Kazan Science Week to be held in Kazan\, Russia in the period of September 25–30\, 2023. The Kazan Science Week includes the Zavoisky Award 2023 ceremony (www.kfti.knc.ru/en/zavoisky) supported by the Government of the Republic of Tatarstan\, the annual International Conference “Modern Development of Magnetic Resonance 2023” and 4th International Conference “Spin Physics\, Spin Chemistry and Spin Technology 2023”. \nFORMAT OF PARTICIPATION\nThe online participation in the conference (oral presentation only) will be organized for foreign participants\, who will not be able to participate in person\, and for Russian participants under exceptional circumstances. \nORGANIZERS\n\nZavoisky Physical-Technical Institute\, FRC Kazan Scientific Center\, Russian Academy of Sciences\nTatarstan Academy of Sciences\nKazan Federal University\n\nTHE SCOPE OF THE CONFERENCE\n“Modern Development of Magnetic Resonance• 2023” (MDMR 2023) \n\nMagnetic resonance in science and spin technology\nMagnetic resonance in chemical and biological systems\nMagnetic resonance imaging and applications in medical physics\nNew trends in magnetic resonance\nSpin-based information processing and optical quantum technologies\n\nTHE SCOPE OF THE CONFERENCE\n“Spin Physics\, Spin Chemistry and Spin Technology •2023” (SPCT 2023) \n\nSpintronics and quantum electronics\nMagnetic phenomena in physics\, chemistry and biology\nSpin chemistry\nRelated phenomena\n\nLANGUAGE\nThe official language of the event is English \nCHAIRMEN\nAlexey A. Kalachev\, e-mail: a.kalachev@knc.ru\nSergey M. Khantimerov\, e-mail: khantim@kfti.knc.ru\nKev M. Salikhov\, e-mail: salikhov@kfti.knc.ru \nPROGRAM CHAIRMEN\nMDMR 2023: Violeta K. Voronkova\, e-mail: vio@kfti.knc.ru\nSPСT 2023: Lenar R. Tagirov\, e-mail: ltagirov@kfti.knc.ru \nSCIENTIFIC SECRETARIAT\nTatiana P. Gavrilova\nYuri E. Kandrashkin\nAndrey A. Kamashev\nVladislav A. Latypov\nIlnur Z. Latypov\nLaila V. Mosina \ne-mail: sci-kzn2023@mail.ru\nphone: 7 (843) 231 90 96\nfax: 7 (843) 272 50 75 \nONLINE REGISTRATION & ABSTRACT SUBMISSION \nOnline registration and Abstract submission are now open. \n\n
URL:https://knc.ru/event/kazan-science-week-%e2%80%a2-2023/
END:VEVENT
END:VCALENDAR