BEGIN:VCALENDAR
VERSION:2.0
PRODID:-//ФИЦ КазНЦ РАН - ECPv4.6.13//NONSGML v1.0//EN
CALSCALE:GREGORIAN
METHOD:PUBLISH
X-WR-CALNAME:ФИЦ КазНЦ РАН
X-ORIGINAL-URL:https://knc.ru
X-WR-CALDESC:Events for ФИЦ КазНЦ РАН
BEGIN:VEVENT
DTSTART;VALUE=DATE:20230711
DTEND;VALUE=DATE:20230716
DTSTAMP:20260423T125908
CREATED:20221229T064655Z
LAST-MODIFIED:20221229T064655Z
UID:14094-1689033600-1689465599@knc.ru
SUMMARY:VII Международная научная конференция «Генетика\, Геномика\, Биоинформатика и Биотехнология растений (PlantGen 2023)»
DESCRIPTION: \nС 11 по 15 июля 2023 года на базе Казанского научного центра РАН состоится VII Международная научная конференция «Генетика\, Геномика\, Биоинформатика и Биотехнология растений (PlantGen 2023)». Конференция ориентирована на исследования\, использующие генетические подходы в решении вопросов селекции\, физиологии и молекулярной биологии растений. На конференции будут рассмотрены вопросы генетических ресурсов растений\, генетики устойчивости к стрессовым факторам окружающей среды\, фундаментальных и прикладных аспектов изучения организации и эволюции генома растений\, сопряженных подходов биоинформатики и современных платформ\, нацеленных на улучшение сельскохозяйственных культур. В рамках конференции пройдет Школа молодых учёных. \nМесто проведения мероприятия: ИТ-парк им. Башира Рамеева (г. Казань\, ул. Спартаковская\, 2). \nПодробная информация представлена на веб-сайте: https://plantgen2023.ofr.su \n ПЕРВОЕ ИНФОРМАЦИОННОЕ ПИСЬМО \n
URL:https://knc.ru/event/vii-%d0%bc%d0%b5%d0%b6%d0%b4%d1%83%d0%bd%d0%b0%d1%80%d0%be%d0%b4%d0%bd%d0%b0%d1%8f-%d0%bd%d0%b0%d1%83%d1%87%d0%bd%d0%b0%d1%8f-%d0%ba%d0%be%d0%bd%d1%84%d0%b5%d1%80%d0%b5%d0%bd%d1%86%d0%b8%d1%8f/
END:VEVENT
END:VCALENDAR